1000.0
0.0
0.0
-1000.0
-213000
5858000