250.000
0.00
0.00
-250.000
-213000.000
5858000.000
