250.00000000000000
0.00000000000000
0.00000000000000
-250.00000000000000
-237000.00000000000000
5876000.00000000000000
