250.00000000000000
0.00000000000000
0.00000000000000
-250.00000000000000
-224500.00000000000000
5863500.00000000000000
