250.00000000000000
                   0.00000000000000
                   0.00000000000000
                -250.00000000000000
             -237125.00000000000000
             5876125.00000000000000