250.00000000000000
                   0.00000000000000
                   0.00000000000000
                -250.00000000000000
             -211952.16353061260000
             5851938.08434921320000