250.00000000000000
                   0.00000000000000
                   0.00000000000000
                -250.00000000000000
             -212054.24077176792000
             5852110.95059415330000