250.00000000000000
                   0.00000000000000
                   0.00000000000000
                -250.00000000000000
             -212047.39619834023000
             5852110.53978114390000