250.00000000000000
0.00000000000000
0.00000000000000
-250.00000000000000
-212044.23183234222000
5851933.15214007070000
