250.00000000000000
                   0.00000000000000
                   0.00000000000000
                -250.00000000000000
             -211961.15782352933000
             5851957.40503555720000