250.00000000000000
                   0.00000000000000
                   0.00000000000000
                -250.00000000000000
             -212137.64308378450000
             5852092.52924872750000