250.00000000000000
                   0.00000000000000
                   0.00000000000000
                -250.00000000000000
             -212096.03835253883000
             5852095.02369208730000