250.00000000000000
                   0.00000000000000
                   0.00000000000000
                -250.00000000000000
             -212075.79049237876000
             5851997.97407840660000