250.00000000000000
0.00000000000000
0.00000000000000
-250.00000000000000
-212009.57533586095000
5852062.12297759950000
