250.00000000000000
                   0.00000000000000
                   0.00000000000000
                -250.00000000000000
             -212085.05841634469000
             5852102.14650668020000