250.00000000000000
                   0.00000000000000
                   0.00000000000000
                -250.00000000000000
             -212018.00467915484000
             5851971.82025188580000