250.00000000000000
0.00000000000000
0.00000000000000
-250.00000000000000
-212035.62638684828000
5851911.53610247190000
