250.00000000000000
                   0.00000000000000
                   0.00000000000000
                -250.00000000000000
             -212108.22399333678000
             5851954.78750949910000