250.00000000000000
                   0.00000000000000
                   0.00000000000000
                -250.00000000000000
             -211985.02242252923000
             5852135.74776479420000